BEGIN:VCALENDAR
VERSION:2.0
METHOD:PUBLISH
PRODID:-//Agenda.ad//NONSGML v1.0//EN
BEGIN:VEVENT
CLASS:PUBLIC
UID:708496d5bfafca50e63d8edcc5e6a61d@agenda.ad
DTSTAMP:20260419T163134Z
DTSTART:20260119T230000Z
DTEND:20260330T220000Z
SUMMARY:Cicle de Cinema de Muntanya i Viatges Ordino-La Massana
DESCRIPTION:Cicle de Cinema de Muntanya i Viatges Ordino-La Massana\n\nM
 és informació\nhttps://www.agenda.ad/activitat/ordino/cine
 ma/cicle-de-cinema-de-muntanya-i-viatges-ordino-la-massana 
 \nTelèfon 878151\n\nOrganitza\nComuns d'Ordino i La M
 assana
LOCATION:ACCO-Andorra Congrés Centre Ordino
SEQUENCE:0
TRANSP:OPAQUE
X-ALT-DESC;FMTTYPE=text/html:<!DOCTYPE HTML PUBLIC "-//W3C//DTD HTML 3.2//EN"><HTML><HEAD
 ><TITLE></TITLE></HEAD><BODY><FONT FACE="Arial" SIZE=2>Cicle
  de Cinema de Muntanya i Viatges Ordino-La Massana<br/><br/>
 <b>Més informació</b><br/><a href="https://www.agenda.ad/a
 ctivitat/ordino/cinema/cicle-de-cinema-de-muntanya-i-viatges
 -ordino-la-massana ">https://www.agenda.ad/activitat/ordino
 /cinema/cicle-de-cinema-de-muntanya-i-viatges-ordino-la-mass
 ana </a><br/>Tel&egrave;fon 878151<br/><br/><b>Organitza</b
 ><br/>Comuns d'Ordino i La Massana</FONT></BODY></HTML>
END:VEVENT
END:VCALENDAR